BEGIN:VCALENDAR
VERSION:2.0
PRODID:-//sgs85.de - ECPv6.15.20//NONSGML v1.0//EN
CALSCALE:GREGORIAN
METHOD:PUBLISH
X-WR-CALNAME:sgs85.de
X-ORIGINAL-URL:https://sgs85.de
X-WR-CALDESC:Veranstaltungen für sgs85.de
REFRESH-INTERVAL;VALUE=DURATION:PT1H
X-Robots-Tag:noindex
X-PUBLISHED-TTL:PT1H
BEGIN:VTIMEZONE
TZID:Europe/Berlin
BEGIN:DAYLIGHT
TZOFFSETFROM:+0100
TZOFFSETTO:+0200
TZNAME:CEST
DTSTART:20190331T010000
END:DAYLIGHT
BEGIN:STANDARD
TZOFFSETFROM:+0200
TZOFFSETTO:+0100
TZNAME:CET
DTSTART:20191027T010000
END:STANDARD
BEGIN:DAYLIGHT
TZOFFSETFROM:+0100
TZOFFSETTO:+0200
TZNAME:CEST
DTSTART:20200329T010000
END:DAYLIGHT
BEGIN:STANDARD
TZOFFSETFROM:+0200
TZOFFSETTO:+0100
TZNAME:CET
DTSTART:20201025T010000
END:STANDARD
BEGIN:DAYLIGHT
TZOFFSETFROM:+0100
TZOFFSETTO:+0200
TZNAME:CEST
DTSTART:20210328T010000
END:DAYLIGHT
BEGIN:STANDARD
TZOFFSETFROM:+0200
TZOFFSETTO:+0100
TZNAME:CET
DTSTART:20211031T010000
END:STANDARD
END:VTIMEZONE
BEGIN:VEVENT
DTSTART;TZID=Europe/Berlin:20200624T163000
DTEND;TZID=Europe/Berlin:20201014T203000
DTSTAMP:20260425T124953
CREATED:20200610T113216Z
LAST-MODIFIED:20200610T113912Z
UID:7698-1593016200-1602707400@sgs85.de
SUMMARY:Happy-Hour-Segeln in Kalkhütte
DESCRIPTION:Ab dem 24. Juni wollen wir ab 16:30 Uhr unter Beachtung der dann gültigen Verordnungen im Rahmen der Corona-Pandemie das wöchentliche Happy-Hour-Segeln am See wieder aufnehmen. Die Boote müssen von den Nutzern vorher jeweils über unser Buchungstool Binnen mit den tagesaktuellen persönlichen Daten gebucht werden. Wir haben nach wie vor Listenpflicht! \n 
URL:https://sgs85.de/event/happy-hour-segeln-in-kalkhuette/
LOCATION:Kalkhütte\, Kalkhütte 1\, Römnitz\, Schleswig-Holstein\, 23909\, Deutschland
CATEGORIES:Kalkhuette,Vereinsleben
ORGANIZER;CN="Segler-Gemeinschaft Schwarzenbek e.V.":MAILTO:info@sgs85.de
END:VEVENT
BEGIN:VEVENT
DTSTART;TZID=Europe/Berlin:20201008T080000
DTEND;TZID=Europe/Berlin:20201011T170000
DTSTAMP:20260425T124953
CREATED:20200729T054443Z
LAST-MODIFIED:20200812T104937Z
UID:7720-1602144000-1602435600@sgs85.de
SUMMARY:Messe der Wirtschaftlichen Vereinigung Schwarzenbek - ABGESAGT!
DESCRIPTION:Die große Messe in den Hallen der Buschkoppel\, im Gymnasium und auf dem umliegenden Freigelände musste leider abgesagt werden – das Corona-Virus hat allen dieses Jahr einen dicken roten Strich duch die Rechnung und durch alle Planungen gemacht. Aber nicht durch alle Planungen: der WVS-Vorstand hat zusammen mit dem Messe-Orgateam eine Alternative ausgearbeitet\, die auch mit Hygiene- und Abstandsregeln möglich sein wird: „Smart. Digital. Nachhaltig.“ – Die ganz andere WVS-MESSE 2020. Firmen und Vereine präsentieren sich in den jeweilig eigenen Räumen vom 8. – 10. Oktober. \nDie SGS wird am Sonntag von 9-17 Uhr ihre Räume in Schwarzenbek öffnen. \nACHTUNG! Die Veranstaltung wurde am 4. August 2020 vom Veranstalter abgesagt!!!!
URL:https://sgs85.de/event/messe-der-wirtschaftlichen-vereinigung-schwarzenbek/
LOCATION:Segler-Gemeinschaft Schwarzenbek e.V.\, Markt 11\, Schwarzenbek\, 21493\, Deutschland
CATEGORIES:Allgemein
END:VEVENT
BEGIN:VEVENT
DTSTART;TZID=Europe/Berlin:20201009T160000
DTEND;TZID=Europe/Berlin:20201016T120000
DTSTAMP:20260425T124953
CREATED:20200909T160409Z
LAST-MODIFIED:20200909T160952Z
UID:7891-1602259200-1602849600@sgs85.de
SUMMARY:Herbst-Vereinstörn mit integriertem Skippertraining
DESCRIPTION:Unter der Leitung von Michael Lorz startet die Xenia in einen Herbsttörn mit gleichzeitigem Skippertraining. \nKosten für Mitglieder 360 Euro für Nichtmitglieder 400 Euro. \nAnmeldung bis 20. September 2020 bei Nico Scharnagl (n.scharnagl@sgs85.de)
URL:https://sgs85.de/event/herbst-vereinstoern-mit-integriertem-skippertraining/
LOCATION:Burgtiefe\, Am Yachthafen\, Fehmarn\, 23769\, Deutschland
CATEGORIES:Hochsee,Segeln lernen,Vereinstoern
ORGANIZER;CN="Segler-Gemeinschaft Schwarzenbek e.V.":MAILTO:info@sgs85.de
END:VEVENT
END:VCALENDAR