BEGIN:VCALENDAR
VERSION:2.0
PRODID:-//sgs85.de - ECPv6.15.20//NONSGML v1.0//EN
CALSCALE:GREGORIAN
METHOD:PUBLISH
X-WR-CALNAME:sgs85.de
X-ORIGINAL-URL:https://sgs85.de
X-WR-CALDESC:Veranstaltungen für sgs85.de
REFRESH-INTERVAL;VALUE=DURATION:PT1H
X-Robots-Tag:noindex
X-PUBLISHED-TTL:PT1H
BEGIN:VTIMEZONE
TZID:Europe/Berlin
BEGIN:DAYLIGHT
TZOFFSETFROM:+0100
TZOFFSETTO:+0200
TZNAME:CEST
DTSTART:20250330T010000
END:DAYLIGHT
BEGIN:STANDARD
TZOFFSETFROM:+0200
TZOFFSETTO:+0100
TZNAME:CET
DTSTART:20251026T010000
END:STANDARD
BEGIN:DAYLIGHT
TZOFFSETFROM:+0100
TZOFFSETTO:+0200
TZNAME:CEST
DTSTART:20260329T010000
END:DAYLIGHT
BEGIN:STANDARD
TZOFFSETFROM:+0200
TZOFFSETTO:+0100
TZNAME:CET
DTSTART:20261025T010000
END:STANDARD
BEGIN:DAYLIGHT
TZOFFSETFROM:+0100
TZOFFSETTO:+0200
TZNAME:CEST
DTSTART:20270328T010000
END:DAYLIGHT
BEGIN:STANDARD
TZOFFSETFROM:+0200
TZOFFSETTO:+0100
TZNAME:CET
DTSTART:20271031T010000
END:STANDARD
END:VTIMEZONE
BEGIN:VEVENT
DTSTART;TZID=Europe/Berlin:20260425T100000
DTEND;TZID=Europe/Berlin:20260425T170000
DTSTAMP:20260425T020111
CREATED:20251118T113324Z
LAST-MODIFIED:20260320T082100Z
UID:12043-1777111200-1777136400@sgs85.de
SUMMARY:Ansegeln Kalkhütte
DESCRIPTION:Saisonstart am See
URL:https://sgs85.de/event/ansegeln-kalkhuette-2/
LOCATION:Kalkhütte\, Kalkhütte 1\, Römnitz\, Schleswig-Holstein\, 23909\, Deutschland
CATEGORIES:Allgemein,Kalkhuette,Vereinsleben
ATTACH;FMTTYPE=image/jpeg:https://sgs85.de/wp-content/uploads/2024/04/RS-Sailing-–-.jpg
ORGANIZER;CN="Segler-Gemeinschaft Schwarzenbek e.V.":MAILTO:info@sgs85.de
END:VEVENT
END:VCALENDAR